BEGIN:VCALENDAR
VERSION:2.0
PRODID:-//Jürgen Hardt - ECPv6.15.20//NONSGML v1.0//EN
CALSCALE:GREGORIAN
METHOD:PUBLISH
X-ORIGINAL-URL:https://www.juergenhardt.de
X-WR-CALDESC:Veranstaltungen für Jürgen Hardt
REFRESH-INTERVAL;VALUE=DURATION:PT1H
X-Robots-Tag:noindex
X-PUBLISHED-TTL:PT1H
BEGIN:VTIMEZONE
TZID:Europe/Berlin
BEGIN:DAYLIGHT
TZOFFSETFROM:+0100
TZOFFSETTO:+0200
TZNAME:CEST
DTSTART:20230326T010000
END:DAYLIGHT
BEGIN:STANDARD
TZOFFSETFROM:+0200
TZOFFSETTO:+0100
TZNAME:CET
DTSTART:20231029T010000
END:STANDARD
BEGIN:DAYLIGHT
TZOFFSETFROM:+0100
TZOFFSETTO:+0200
TZNAME:CEST
DTSTART:20240331T010000
END:DAYLIGHT
BEGIN:STANDARD
TZOFFSETFROM:+0200
TZOFFSETTO:+0100
TZNAME:CET
DTSTART:20241027T010000
END:STANDARD
BEGIN:DAYLIGHT
TZOFFSETFROM:+0100
TZOFFSETTO:+0200
TZNAME:CEST
DTSTART:20250330T010000
END:DAYLIGHT
BEGIN:STANDARD
TZOFFSETFROM:+0200
TZOFFSETTO:+0100
TZNAME:CET
DTSTART:20251026T010000
END:STANDARD
END:VTIMEZONE
BEGIN:VEVENT
DTSTART;VALUE=DATE:20241202
DTEND;VALUE=DATE:20241207
DTSTAMP:20260421T115722
CREATED:20241115T124941Z
LAST-MODIFIED:20241115T124941Z
UID:17576-1733097600-1733529599@www.juergenhardt.de
SUMMARY:Sitzungswoche des Deutschen Bundestages
DESCRIPTION:
URL:https://www.juergenhardt.de/event/sitzungswoche-des-deutschen-bundestages-17/
END:VEVENT
BEGIN:VEVENT
DTSTART;TZID=Europe/Berlin:20241202T160000
DTEND;TZID=Europe/Berlin:20241202T170000
DTSTAMP:20260421T115722
CREATED:20241115T125000Z
LAST-MODIFIED:20241115T125000Z
UID:17578-1733155200-1733158800@www.juergenhardt.de
SUMMARY:Sitzung des Vorstands der CDU/CSU-Bundestagsfraktion
DESCRIPTION:
URL:https://www.juergenhardt.de/event/sitzung-des-vorstands-der-cdu-csu-bundestagsfraktion-18/
END:VEVENT
BEGIN:VEVENT
DTSTART;TZID=Europe/Berlin:20241202T183000
DTEND;TZID=Europe/Berlin:20241202T193000
DTSTAMP:20260421T115722
CREATED:20241115T125022Z
LAST-MODIFIED:20241115T125022Z
UID:17580-1733164200-1733167800@www.juergenhardt.de
SUMMARY:Abschiedsempfang für den italienischen Botschafter Armando Varricchio
DESCRIPTION:
URL:https://www.juergenhardt.de/event/abschiedsempfang-fuer-den-italienischen-botschafter-armando-varricchio/
END:VEVENT
END:VCALENDAR