BEGIN:VCALENDAR
VERSION:2.0
PRODID:-//Jürgen Hardt - ECPv6.15.20//NONSGML v1.0//EN
CALSCALE:GREGORIAN
METHOD:PUBLISH
X-ORIGINAL-URL:https://www.juergenhardt.de
X-WR-CALDESC:Veranstaltungen für Jürgen Hardt
REFRESH-INTERVAL;VALUE=DURATION:PT1H
X-Robots-Tag:noindex
X-PUBLISHED-TTL:PT1H
BEGIN:VTIMEZONE
TZID:Europe/Berlin
BEGIN:DAYLIGHT
TZOFFSETFROM:+0100
TZOFFSETTO:+0200
TZNAME:CEST
DTSTART:20230326T010000
END:DAYLIGHT
BEGIN:STANDARD
TZOFFSETFROM:+0200
TZOFFSETTO:+0100
TZNAME:CET
DTSTART:20231029T010000
END:STANDARD
BEGIN:DAYLIGHT
TZOFFSETFROM:+0100
TZOFFSETTO:+0200
TZNAME:CEST
DTSTART:20240331T010000
END:DAYLIGHT
BEGIN:STANDARD
TZOFFSETFROM:+0200
TZOFFSETTO:+0100
TZNAME:CET
DTSTART:20241027T010000
END:STANDARD
BEGIN:DAYLIGHT
TZOFFSETFROM:+0100
TZOFFSETTO:+0200
TZNAME:CEST
DTSTART:20250330T010000
END:DAYLIGHT
BEGIN:STANDARD
TZOFFSETFROM:+0200
TZOFFSETTO:+0100
TZNAME:CET
DTSTART:20251026T010000
END:STANDARD
END:VTIMEZONE
BEGIN:VEVENT
DTSTART;TZID=Europe/Berlin:20241212T100000
DTEND;TZID=Europe/Berlin:20241212T130000
DTSTAMP:20260419T170233
CREATED:20241210T124237Z
LAST-MODIFIED:20241210T124237Z
UID:17665-1733997600-1734008400@www.juergenhardt.de
SUMMARY:Politisches Praktikum im Hotel Restaurant Kromberg in Remscheid
DESCRIPTION:
URL:https://www.juergenhardt.de/event/politisches-praktikum-im-hotel-restaurant-kromberg-in-remscheid/
END:VEVENT
BEGIN:VEVENT
DTSTART;TZID=Europe/Berlin:20241212T183000
DTEND;TZID=Europe/Berlin:20241212T220000
DTSTAMP:20260419T170233
CREATED:20241210T124306Z
LAST-MODIFIED:20241210T124306Z
UID:17667-1734028200-1734040800@www.juergenhardt.de
SUMMARY:Weihnachtsfeier der CDU Fraktion im Rat der Stadt Wuppertal
DESCRIPTION:
URL:https://www.juergenhardt.de/event/weihnachtsfeier-der-cdu-fraktion-im-rat-der-stadt-wuppertal/
END:VEVENT
END:VCALENDAR