BEGIN:VCALENDAR
VERSION:2.0
PRODID:-//Jürgen Hardt - ECPv6.15.20//NONSGML v1.0//EN
CALSCALE:GREGORIAN
METHOD:PUBLISH
X-WR-CALNAME:Jürgen Hardt
X-ORIGINAL-URL:https://www.juergenhardt.de
X-WR-CALDESC:Veranstaltungen für Jürgen Hardt
REFRESH-INTERVAL;VALUE=DURATION:PT1H
X-Robots-Tag:noindex
X-PUBLISHED-TTL:PT1H
BEGIN:VTIMEZONE
TZID:Europe/Berlin
BEGIN:DAYLIGHT
TZOFFSETFROM:+0100
TZOFFSETTO:+0200
TZNAME:CEST
DTSTART:20230326T010000
END:DAYLIGHT
BEGIN:STANDARD
TZOFFSETFROM:+0200
TZOFFSETTO:+0100
TZNAME:CET
DTSTART:20231029T010000
END:STANDARD
BEGIN:DAYLIGHT
TZOFFSETFROM:+0100
TZOFFSETTO:+0200
TZNAME:CEST
DTSTART:20240331T010000
END:DAYLIGHT
BEGIN:STANDARD
TZOFFSETFROM:+0200
TZOFFSETTO:+0100
TZNAME:CET
DTSTART:20241027T010000
END:STANDARD
BEGIN:DAYLIGHT
TZOFFSETFROM:+0100
TZOFFSETTO:+0200
TZNAME:CEST
DTSTART:20250330T010000
END:DAYLIGHT
BEGIN:STANDARD
TZOFFSETFROM:+0200
TZOFFSETTO:+0100
TZNAME:CET
DTSTART:20251026T010000
END:STANDARD
END:VTIMEZONE
BEGIN:VEVENT
DTSTART;TZID=Europe/Berlin:20241213T160000
DTEND;TZID=Europe/Berlin:20241213T180000
DTSTAMP:20260419T152518
CREATED:20241210T124334Z
LAST-MODIFIED:20241210T124334Z
UID:17669-1734105600-1734112800@www.juergenhardt.de
SUMMARY:Bürgersprechstunde in Remscheid
DESCRIPTION:
URL:https://www.juergenhardt.de/event/buergersprechstunde-in-remscheid-3/
END:VEVENT
BEGIN:VEVENT
DTSTART;TZID=Europe/Berlin:20241213T180000
DTEND;TZID=Europe/Berlin:20241213T190000
DTSTAMP:20260419T152518
CREATED:20241210T124405Z
LAST-MODIFIED:20241210T124405Z
UID:17671-1734112800-1734116400@www.juergenhardt.de
SUMMARY:Weihnachtsfeier der Schüler Union Remscheid
DESCRIPTION:
URL:https://www.juergenhardt.de/event/weihnachtsfeier-der-schueler-union-remscheid/
END:VEVENT
END:VCALENDAR